BEGIN:VCALENDAR
VERSION:2.0
PRODID:-//Thunder Bay Hiking Association - ECPv6.15.17.1//NONSGML v1.0//EN
CALSCALE:GREGORIAN
METHOD:PUBLISH
X-WR-CALNAME:Thunder Bay Hiking Association
X-ORIGINAL-URL:https://tbha.ca
X-WR-CALDESC:Events for Thunder Bay Hiking Association
REFRESH-INTERVAL;VALUE=DURATION:PT1H
X-Robots-Tag:noindex
X-PUBLISHED-TTL:PT1H
BEGIN:VTIMEZONE
TZID:America/Toronto
BEGIN:DAYLIGHT
TZOFFSETFROM:-0500
TZOFFSETTO:-0400
TZNAME:EDT
DTSTART:20240310T070000
END:DAYLIGHT
BEGIN:STANDARD
TZOFFSETFROM:-0400
TZOFFSETTO:-0500
TZNAME:EST
DTSTART:20241103T060000
END:STANDARD
BEGIN:DAYLIGHT
TZOFFSETFROM:-0500
TZOFFSETTO:-0400
TZNAME:EDT
DTSTART:20250309T070000
END:DAYLIGHT
BEGIN:STANDARD
TZOFFSETFROM:-0400
TZOFFSETTO:-0500
TZNAME:EST
DTSTART:20251102T060000
END:STANDARD
BEGIN:DAYLIGHT
TZOFFSETFROM:-0500
TZOFFSETTO:-0400
TZNAME:EDT
DTSTART:20260308T070000
END:DAYLIGHT
BEGIN:STANDARD
TZOFFSETFROM:-0400
TZOFFSETTO:-0500
TZNAME:EST
DTSTART:20261101T060000
END:STANDARD
END:VTIMEZONE
BEGIN:VEVENT
DTSTART;TZID=America/Toronto:20251001T090000
DTEND;TZID=America/Toronto:20251001T180000
DTSTAMP:20260422T194508
CREATED:20250916T192006Z
LAST-MODIFIED:20250916T192006Z
UID:10000085-1759309200-1759341600@tbha.ca
SUMMARY:Oberg/Leveaux Mountains Hike\, USA
DESCRIPTION:Enjoy the maple tree colors\, just south of Lutsen Mountain.  Bring lunch and fluids.  Passport is required and out of country insurance is recommended.  No fresh fruit is allowed across the border.  We may stop for supper on the way home.  This hike is limited to 15 participants. \nLevel of Difficulty: Intermediate/Difficult\nHiking Time/Hiking Distance: 10 km / 4 hr\nTravel Time/Travel Distance: 320 km / 4 hr\nSuggested Gas Contribution:  $22
URL:https://tbha.ca/event/oberg-leveaux-mountains-hike-usa/
END:VEVENT
BEGIN:VEVENT
DTSTART;TZID=America/Toronto:20251004T100000
DTEND;TZID=America/Toronto:20251004T160000
DTSTAMP:20260422T194508
CREATED:20250916T192612Z
LAST-MODIFIED:20250916T192612Z
UID:10000086-1759572000-1759593600@tbha.ca
SUMMARY:Thompson Lake and Lookout
DESCRIPTION:From the trailhead at Hunter Lane in the Municipality of Neebing\, we will hike well-groomed trails to Thompson Lake and the Lookout.  The trails are mainly uphill but on gentle slopes through maple forests.  The forests are likely to be in full colour at this time of the year.  We will eat lunch at the lookout.  This will be a relaxed pace hike to accommodate slow hikers\, with opportunities for naturalist interpretation.  This hike will be limited to 20 participants and will be a dog friendly hike. \nLevel of Difficulty: Intermediate\nHiking Time/Hiking Distance: 8 km / 4 hr\nTravel Time/Travel Distance: 54 km / 45 min\nSuggested Gas Contribution: $4
URL:https://tbha.ca/event/thompson-lake-and-lookout/
END:VEVENT
BEGIN:VEVENT
DTSTART;TZID=America/Toronto:20251005T110000
DTEND;TZID=America/Toronto:20251005T200000
DTSTAMP:20260422T194508
CREATED:20250918T022315Z
LAST-MODIFIED:20250918T022315Z
UID:10000088-1759662000-1759694400@tbha.ca
SUMMARY:Camp Duncan Get-Together
DESCRIPTION:Join us for a relaxing afternoon at Camp Duncan on Loon Lake.  There will be hiking\, biking and paddling.  Swimming is also an option\, depending on the weather.  There will be a BBQ available please bring something to BBQ and a salad or dessert to share.  A campfire is also an option.  A monetary donation to the camp would be appreciated. \nLevel of Difficulty: Easy\nHiking Time/Hiking Distance: /2 hrs.\nTravel Time/Travel Distance:  90 km / 1 hr. 30 min\nSuggested Gas Contribution:  $7
URL:https://tbha.ca/event/camp-duncan-get-together/
END:VEVENT
BEGIN:VEVENT
DTSTART;TZID=America/Toronto:20251010T103000
DTEND;TZID=America/Toronto:20251010T143000
DTSTAMP:20260422T194508
CREATED:20250918T021652Z
LAST-MODIFIED:20250918T021652Z
UID:10000087-1760092200-1760106600@tbha.ca
SUMMARY:McIntyre River Walk
DESCRIPTION:This is an urban hike along the McIntyre River Trail from Memorial Avenue through Confederation College to Lakehead University and return by the same route.  This hike is limited to 15 participants. \nLevel of Difficulty: Easy\nHiking Time/Hiking Distance: 8 km / 3 hrs.\nTravel Time/Travel Distance: n/a\nSuggested Gas Contribution: n/a
URL:https://tbha.ca/event/mcintyre-river-walk-2/
END:VEVENT
BEGIN:VEVENT
DTSTART;TZID=America/Toronto:20251018T100000
DTEND;TZID=America/Toronto:20251018T173000
DTSTAMP:20260422T194508
CREATED:20250918T022743Z
LAST-MODIFIED:20250918T022743Z
UID:10000089-1760781600-1760808600@tbha.ca
SUMMARY:Little Trout Bay to Big Trout Bay and Mount Mollie
DESCRIPTION:This hike starts across from the Little Trout Bay parking lot.  A challenging trail along a mountain ridge with spectacular overviews.  We’ll continue to Big Trout Bay and take the spur trail to Mt. Mollie\, where we’ll have lunch and enjoy the views to the south and east.  Return will be along the same route to Little Trout Bay.  Total elevation gain will be in the order of 580 meters with steep climbs and descents.  This hike is limited to 12 people.  This will be a fast-paced hike and tough as well.  Additional fees:  LRCA parking fee $5.00 or LRCA Explore Card. \nLevel of Difficulty: Difficult\nHiking Time/Hiking Distance: 10 km / 5 hrs.\nTravel Time/Travel Distance: 92 km / 1 hr. 30 min\nSuggested Gas Contribution: $7
URL:https://tbha.ca/event/little-trout-bay-to-big-trout-bay-and-mount-mollie/
END:VEVENT
BEGIN:VEVENT
DTSTART;TZID=America/Toronto:20251019T130000
DTEND;TZID=America/Toronto:20251019T173000
DTSTAMP:20260422T194508
CREATED:20250918T023111Z
LAST-MODIFIED:20250918T023111Z
UID:10000090-1760878800-1760895000@tbha.ca
SUMMARY:Kamview Hike
DESCRIPTION:Enjoy this relaxed pace hike on x-country ski trails.  Bring snacks and fluids.  This hike is limited to 15 participants \nLevel of Difficulty: Intermediate\nHiking Time/Hiking Distance: 7 km / 2 – 3 hr\nTravel Time/Travel Distance: 20 km / 30 min\nSuggested Gas Contribution: $2
URL:https://tbha.ca/event/kamview-hike-2/
END:VEVENT
BEGIN:VEVENT
DTSTART;TZID=America/Toronto:20251025T100000
DTEND;TZID=America/Toronto:20251025T160000
DTSTAMP:20260422T194508
CREATED:20250926T025730Z
LAST-MODIFIED:20250926T025730Z
UID:10000084-1761386400-1761408000@tbha.ca
SUMMARY:Lizard-Downey Lakes Loop
DESCRIPTION:We will drive to Silver Mountain and hike a loop by 2 lakes with an overview of South Gillies.  Brink water and lunch/snacks.  This hike will be limited to 17 people.  Due to hunting season\, wear appropriate bright colors. \nLevel of Difficulty: Intermediate\nHiking Time/Hiking Distance: 8-10 km / 3 hr 30 min\nTravel Time/Travel Distance: 130 km / 2 hr\nSuggested Gas Contribution: $9
URL:https://tbha.ca/event/lizard-downey-lakes-loop/
END:VEVENT
BEGIN:VEVENT
DTSTART;TZID=America/Toronto:20251026T100000
DTEND;TZID=America/Toronto:20251026T170000
DTSTAMP:20260422T194508
CREATED:20250926T030024Z
LAST-MODIFIED:20250926T030024Z
UID:10000092-1761472800-1761498000@tbha.ca
SUMMARY:Deer Lake Mountain Trail
DESCRIPTION:Trailhead is 3.4 km north of Nipigon. The wooded trail starts as a gradual climb and then circles the perimeter of Deer Lake with incredible views in all directions before returning to the trailhead. We will do a spur trail overlooking No Good Lake. Bring beverages and lunch\, and wear sturdy boots. Due to hunting season\, please wear appropriate bright colors. This hike is limited to 14 participants. Possibility of stopping at a restaurant after the hike. \nLevel of Difficulty: Intermediate\nHiking Time/Hiking Distance: 8 km / 4 hr\nTravel Time/Travel Distance: 220 km / 2.5 hr\nSuggested Gas Contribution: $15
URL:https://tbha.ca/event/deer-lake-mountain-trail-2/
END:VEVENT
END:VCALENDAR