BEGIN:VCALENDAR
VERSION:2.0
PRODID:-//Thunder Bay Hiking Association - ECPv6.15.17.1//NONSGML v1.0//EN
CALSCALE:GREGORIAN
METHOD:PUBLISH
X-ORIGINAL-URL:https://tbha.ca
X-WR-CALDESC:Events for Thunder Bay Hiking Association
REFRESH-INTERVAL;VALUE=DURATION:PT1H
X-Robots-Tag:noindex
X-PUBLISHED-TTL:PT1H
BEGIN:VTIMEZONE
TZID:America/Toronto
BEGIN:DAYLIGHT
TZOFFSETFROM:-0500
TZOFFSETTO:-0400
TZNAME:EDT
DTSTART:20250309T070000
END:DAYLIGHT
BEGIN:STANDARD
TZOFFSETFROM:-0400
TZOFFSETTO:-0500
TZNAME:EST
DTSTART:20251102T060000
END:STANDARD
BEGIN:DAYLIGHT
TZOFFSETFROM:-0500
TZOFFSETTO:-0400
TZNAME:EDT
DTSTART:20260308T070000
END:DAYLIGHT
BEGIN:STANDARD
TZOFFSETFROM:-0400
TZOFFSETTO:-0500
TZNAME:EST
DTSTART:20261101T060000
END:STANDARD
BEGIN:DAYLIGHT
TZOFFSETFROM:-0500
TZOFFSETTO:-0400
TZNAME:EDT
DTSTART:20270314T070000
END:DAYLIGHT
BEGIN:STANDARD
TZOFFSETFROM:-0400
TZOFFSETTO:-0500
TZNAME:EST
DTSTART:20271107T060000
END:STANDARD
END:VTIMEZONE
BEGIN:VEVENT
DTSTART;TZID=America/Toronto:20260625T110000
DTEND;TZID=America/Toronto:20260625T160000
DTSTAMP:20260423T023638
CREATED:20260423T002600Z
LAST-MODIFIED:20260423T002600Z
UID:10000145-1782385200-1782403200@tbha.ca
SUMMARY:MacKenzie River & Falls Hike
DESCRIPTION:The Trail follows the MacKenzie River from the MacKenzie Inn parking lot to a waterfall. The trail may be slippery when wet and some rock scrambling is required. Bring a lunch and fluids. This hike will be limited to 12 participants \nLevel of Difficulty: Easy\nHiking Time/Hiking Distance: 5 km / 3 hrs\nTravel Time/Travel Distance: 52 km  / 45 min\nSuggested Gas Contribution: $4
URL:https://tbha.ca/event/mackenzie-river-falls-hike-2/
END:VEVENT
BEGIN:VEVENT
DTSTART;TZID=America/Toronto:20260628T110000
DTEND;TZID=America/Toronto:20260628T160000
DTSTAMP:20260423T023638
CREATED:20260423T002925Z
LAST-MODIFIED:20260423T002925Z
UID:10000146-1782644400-1782662400@tbha.ca
SUMMARY:Mink Mountain Hike
DESCRIPTION:We will hike up a loop trail along the shorelines of Mink Bay and Sturgeon Bay Narrows to several panoramic views of the Lake Superior shoreline\, islands and surrounding hills. The trail consists of some flat sections at the shoreline and on top of Mink Mountain\, with steep climbs to and from the top. We will eat lunch at the Sturgeon Bay lookout and enjoy a second viewing break at the Mink Bay lookout. Bring a lunch or snack. This hike will be a relaxed pace to accommodate slow hikers\, with opportunities for naturalist Interpretation. This hike is limited to 20 participants. This is a dog friendly hike. \nLevel of Difficulty: Intermediat\nHiking Time/Hiking Distance: 5.6 km / 3 hrs\nTravel Time/Travel Distance:110 km  / 1.5 min\nSuggested Gas Contribution: $8
URL:https://tbha.ca/event/mink-mountain-hike/
END:VEVENT
END:VCALENDAR