BEGIN:VCALENDAR
VERSION:2.0
PRODID:-//Thunder Bay Hiking Association - ECPv6.15.17.1//NONSGML v1.0//EN
CALSCALE:GREGORIAN
METHOD:PUBLISH
X-WR-CALNAME:Thunder Bay Hiking Association
X-ORIGINAL-URL:https://tbha.ca
X-WR-CALDESC:Events for Thunder Bay Hiking Association
REFRESH-INTERVAL;VALUE=DURATION:PT1H
X-Robots-Tag:noindex
X-PUBLISHED-TTL:PT1H
BEGIN:VTIMEZONE
TZID:America/Toronto
BEGIN:DAYLIGHT
TZOFFSETFROM:-0500
TZOFFSETTO:-0400
TZNAME:EDT
DTSTART:20250309T070000
END:DAYLIGHT
BEGIN:STANDARD
TZOFFSETFROM:-0400
TZOFFSETTO:-0500
TZNAME:EST
DTSTART:20251102T060000
END:STANDARD
BEGIN:DAYLIGHT
TZOFFSETFROM:-0500
TZOFFSETTO:-0400
TZNAME:EDT
DTSTART:20260308T070000
END:DAYLIGHT
BEGIN:STANDARD
TZOFFSETFROM:-0400
TZOFFSETTO:-0500
TZNAME:EST
DTSTART:20261101T060000
END:STANDARD
BEGIN:DAYLIGHT
TZOFFSETFROM:-0500
TZOFFSETTO:-0400
TZNAME:EDT
DTSTART:20270314T070000
END:DAYLIGHT
BEGIN:STANDARD
TZOFFSETFROM:-0400
TZOFFSETTO:-0500
TZNAME:EST
DTSTART:20271107T060000
END:STANDARD
END:VTIMEZONE
BEGIN:VEVENT
DTSTART;TZID=America/Toronto:20260611T123000
DTEND;TZID=America/Toronto:20260611T140000
DTSTAMP:20260423T023507
CREATED:20260422T115945Z
LAST-MODIFIED:20260422T115945Z
UID:10000138-1781181000-1781186400@tbha.ca
SUMMARY:Urban City Discovery Hike - Vickers Park Tour
DESCRIPTION:A midday stroll around the historic Vickers Park district and neighbourhoods featuring park and heritage homes. This is a dog friendly hike. There Is no limit to the number of participants on this hike. \nLevel of Difficulty: Easy\nHiking Time/Hiking Distance: 5 km/ 1.5 hr\nTravel Time/Travel Distance: n/a\nSuggested Gas Contribution: n/a
URL:https://tbha.ca/event/urban-city-discovery-hike-vickers-park-tour/
END:VEVENT
BEGIN:VEVENT
DTSTART;TZID=America/Toronto:20260613T100000
DTEND;TZID=America/Toronto:20260613T190000
DTSTAMP:20260423T023507
CREATED:20260422T120428Z
LAST-MODIFIED:20260422T120515Z
UID:10000132-1781344800-1781377200@tbha.ca
SUMMARY:Lower Kama (Kama Cliffs Trail)
DESCRIPTION:This hike begins with a 100 meter climb up to and along a ridge with spectacular lookouts. We will stop for lunch at one of the lookouts\, then return the same way. \nLevel of Difficulty: Difficult\nHiking Time/Hiking Distance:  10 km / 5 hr\nTravel Time/Travel Distance: 250 km / 3 hr\nSuggested Gas Contribution:  $20
URL:https://tbha.ca/event/lower-kama-kama-cliffs-trail-2/
END:VEVENT
BEGIN:VEVENT
DTSTART;TZID=America/Toronto:20260617T100000
DTEND;TZID=America/Toronto:20260617T130000
DTSTAMP:20260423T023507
CREATED:20260422T120847Z
LAST-MODIFIED:20260422T120847Z
UID:10000143-1781690400-1781701200@tbha.ca
SUMMARY:Hogarth Forest Hike
DESCRIPTION:We will hike through the Hogarth Forest\, off of the 25th Sideroad. Possibility of going for coffee at the Evergreen Pharmacy. This hike is limited to 12 participants. \nLevel of Difficulty: Easy\nHiking Time/Hiking Distance:  5 km / 2 hr\nTravel Time/Travel Distance: 30 km / 30 min\nSuggested Gas Contribution:  $2
URL:https://tbha.ca/event/hogarth-forest-hike/
END:VEVENT
BEGIN:VEVENT
DTSTART;TZID=America/Toronto:20260620T093000
DTEND;TZID=America/Toronto:20260620T170000
DTSTAMP:20260423T023507
CREATED:20260423T002250Z
LAST-MODIFIED:20260423T002250Z
UID:10000144-1781947800-1781974800@tbha.ca
SUMMARY:Lehtonen's Bay Hike\, Sleeping Giant Park
DESCRIPTION:From the Thunder Bay Lookout\, Sleeping Giant Provincial Park\, we will hike down a long steep hill to a fairly flat section of land\, and then make our way to Clavet Bay overlooking Lake Superior and the Sleeping Giant. Trail is very slippery when wet with some boggy sections. We recommend gloves and boots with a good grip for crossing boulders and loose rock. Vehicle Day Pass is approx. $16 if no Ontario Park Pass. (Alternatively\, a Park Pass might be borrowed free from a Thunder Bay Public Library Branch in advance). This hike will be limited to 12 participants. \nLevel of Difficulty: Intermediate\nHiking Time/Hiking Distance: 15.4 km / 4.5 hrs\nTravel Time/Travel Distance: 155.6 km  / 2 hrs\nSuggested Gas Contribution: $11
URL:https://tbha.ca/event/lehtonens-bay-hike-sleeping-giant-park/
END:VEVENT
BEGIN:VEVENT
DTSTART;TZID=America/Toronto:20260625T110000
DTEND;TZID=America/Toronto:20260625T160000
DTSTAMP:20260423T023507
CREATED:20260423T002600Z
LAST-MODIFIED:20260423T002600Z
UID:10000145-1782385200-1782403200@tbha.ca
SUMMARY:MacKenzie River & Falls Hike
DESCRIPTION:The Trail follows the MacKenzie River from the MacKenzie Inn parking lot to a waterfall. The trail may be slippery when wet and some rock scrambling is required. Bring a lunch and fluids. This hike will be limited to 12 participants \nLevel of Difficulty: Easy\nHiking Time/Hiking Distance: 5 km / 3 hrs\nTravel Time/Travel Distance: 52 km  / 45 min\nSuggested Gas Contribution: $4
URL:https://tbha.ca/event/mackenzie-river-falls-hike-2/
END:VEVENT
BEGIN:VEVENT
DTSTART;TZID=America/Toronto:20260628T110000
DTEND;TZID=America/Toronto:20260628T160000
DTSTAMP:20260423T023507
CREATED:20260423T002925Z
LAST-MODIFIED:20260423T002925Z
UID:10000146-1782644400-1782662400@tbha.ca
SUMMARY:Mink Mountain Hike
DESCRIPTION:We will hike up a loop trail along the shorelines of Mink Bay and Sturgeon Bay Narrows to several panoramic views of the Lake Superior shoreline\, islands and surrounding hills. The trail consists of some flat sections at the shoreline and on top of Mink Mountain\, with steep climbs to and from the top. We will eat lunch at the Sturgeon Bay lookout and enjoy a second viewing break at the Mink Bay lookout. Bring a lunch or snack. This hike will be a relaxed pace to accommodate slow hikers\, with opportunities for naturalist Interpretation. This hike is limited to 20 participants. This is a dog friendly hike. \nLevel of Difficulty: Intermediat\nHiking Time/Hiking Distance: 5.6 km / 3 hrs\nTravel Time/Travel Distance:110 km  / 1.5 min\nSuggested Gas Contribution: $8
URL:https://tbha.ca/event/mink-mountain-hike/
END:VEVENT
END:VCALENDAR