BEGIN:VCALENDAR
VERSION:2.0
PRODID:-//Thunder Bay Hiking Association - ECPv6.15.17.1//NONSGML v1.0//EN
CALSCALE:GREGORIAN
METHOD:PUBLISH
X-WR-CALNAME:Thunder Bay Hiking Association
X-ORIGINAL-URL:https://tbha.ca
X-WR-CALDESC:Events for Thunder Bay Hiking Association
REFRESH-INTERVAL;VALUE=DURATION:PT1H
X-Robots-Tag:noindex
X-PUBLISHED-TTL:PT1H
BEGIN:VTIMEZONE
TZID:America/Toronto
BEGIN:DAYLIGHT
TZOFFSETFROM:-0500
TZOFFSETTO:-0400
TZNAME:EDT
DTSTART:20240310T070000
END:DAYLIGHT
BEGIN:STANDARD
TZOFFSETFROM:-0400
TZOFFSETTO:-0500
TZNAME:EST
DTSTART:20241103T060000
END:STANDARD
BEGIN:DAYLIGHT
TZOFFSETFROM:-0500
TZOFFSETTO:-0400
TZNAME:EDT
DTSTART:20250309T070000
END:DAYLIGHT
BEGIN:STANDARD
TZOFFSETFROM:-0400
TZOFFSETTO:-0500
TZNAME:EST
DTSTART:20251102T060000
END:STANDARD
BEGIN:DAYLIGHT
TZOFFSETFROM:-0500
TZOFFSETTO:-0400
TZNAME:EDT
DTSTART:20260308T070000
END:DAYLIGHT
BEGIN:STANDARD
TZOFFSETFROM:-0400
TZOFFSETTO:-0500
TZNAME:EST
DTSTART:20261101T060000
END:STANDARD
END:VTIMEZONE
BEGIN:VEVENT
DTSTART;TZID=America/Toronto:20251123T100000
DTEND;TZID=America/Toronto:20251123T153000
DTSTAMP:20260422T194852
CREATED:20250926T030934Z
LAST-MODIFIED:20250926T030934Z
UID:10000098-1763892000-1763911800@tbha.ca
SUMMARY:Finger Point Hike
DESCRIPTION:We will hike a moderately rough trail along the shoreline of Pigeon Bay to a panoramic view of the Lake Superior shoreline\, islands and surrounding hills.  We will eat lunch at the hilltop bench.  This hike will be relaxed pace to accommodate slow hikers\, with opportunities for naturalist interpretation.  This hike will be limited to 20 participants and will be a dog friendly hike. \nLevel of Difficulty: Intermediate\nHiking Time/Hiking Distance: 5 km / 3 hr\nTravel Time/Travel Distance: 100 km / 1 hr 30 min\nSuggested Gas Contribution: $7
URL:https://tbha.ca/event/finger-point-hike-2/
END:VEVENT
END:VCALENDAR